Name | Last modified | Size | Description | |
---|---|---|---|---|
Parent Directory | - | |||
buildsrc-out.txt | 06-Jul-2024 00:39 | 889 | ||
buildsrc-summary.dcf | 06-Jul-2024 00:39 | 419 | ||
checksrc-out.txt | 06-Jul-2024 00:39 | 6.7K | ||
checksrc-summary.dcf | 06-Jul-2024 00:39 | 410 | ||
install-out.txt | 06-Jul-2024 00:39 | 949 | ||
install-summary.dcf | 06-Jul-2024 00:39 | 256 | ||