Name | Last modified | Size | Description | |
---|---|---|---|---|
Parent Directory | - | |||
install-summary.dcf | 06-Jul-2024 00:41 | 266 | ||
install-out.txt | 06-Jul-2024 00:41 | 962 | ||
checksrc-summary.dcf | 06-Jul-2024 00:41 | 443 | ||
checksrc-out.txt | 06-Jul-2024 00:41 | 7.4K | ||
buildsrc-summary.dcf | 06-Jul-2024 00:41 | 443 | ||
buildsrc-out.txt | 06-Jul-2024 00:41 | 825 | ||
buildbin-summary.dcf | 06-Jul-2024 00:41 | 496 | ||
buildbin-out.txt | 06-Jul-2024 00:41 | 1.0K | ||