Name | Last modified | Size | Description | |
---|---|---|---|---|
Parent Directory | - | |||
buildsrc-out.txt | 06-Jul-2024 00:39 | 814 | ||
buildsrc-summary.dcf | 06-Jul-2024 00:39 | 412 | ||
checksrc-out.txt | 06-Jul-2024 00:39 | 7.4K | ||
checksrc-summary.dcf | 06-Jul-2024 00:39 | 398 | ||
install-out.txt | 06-Jul-2024 00:39 | 940 | ||
install-summary.dcf | 06-Jul-2024 00:39 | 250 | ||