Name | Last modified | Size | Description | |
---|---|---|---|---|
Parent Directory | - | |||
install-summary.dcf | 06-Jul-2024 00:43 | 285 | ||
buildsrc-summary.dcf | 06-Jul-2024 00:43 | 452 | ||
checksrc-summary.dcf | 06-Jul-2024 00:43 | 476 | ||
buildbin-summary.dcf | 06-Jul-2024 00:43 | 578 | ||
buildsrc-out.txt | 06-Jul-2024 00:43 | 941 | ||
install-out.txt | 06-Jul-2024 00:43 | 2.5K | ||
checksrc-out.txt | 06-Jul-2024 00:43 | 4.2K | ||
buildbin-out.txt | 06-Jul-2024 00:43 | 4.7K | ||