Name | Last modified | Size | Description | |
---|---|---|---|---|
Parent Directory | - | |||
checksrc-out.txt | 06-Jul-2024 00:44 | 4.4K | ||
checksrc-summary.dcf | 06-Jul-2024 00:44 | 402 | ||
buildsrc-summary.dcf | 06-Jul-2024 00:44 | 404 | ||
buildsrc-out.txt | 06-Jul-2024 00:44 | 823 | ||
install-summary.dcf | 06-Jul-2024 00:44 | 247 | ||
install-out.txt | 06-Jul-2024 00:44 | 6.9K | ||