Name | Last modified | Size | Description | |
---|---|---|---|---|
Parent Directory | - | |||
buildbin-out.txt | 06-Jul-2024 00:43 | 23K | ||
buildbin-summary.dcf | 06-Jul-2024 00:43 | 527 | ||
checksrc-summary.dcf | 06-Jul-2024 00:43 | 441 | ||
checksrc-out.txt | 06-Jul-2024 00:43 | 5.0K | ||
buildsrc-summary.dcf | 06-Jul-2024 00:43 | 425 | ||
buildsrc-out.txt | 06-Jul-2024 00:43 | 1.3K | ||
install-summary.dcf | 06-Jul-2024 00:43 | 268 | ||
install-out.txt | 06-Jul-2024 00:43 | 21K | ||