Name | Last modified | Size | Description | |
---|---|---|---|---|
Parent Directory | - | |||
buildbin-out.txt | 12-Jun-2024 04:41 | 1.1K | ||
buildbin-summary.dcf | 12-Jun-2024 04:41 | 512 | ||
buildsrc-out.txt | 12-Jun-2024 04:41 | 838 | ||
buildsrc-summary.dcf | 12-Jun-2024 04:41 | 451 | ||
checksrc-out.txt | 12-Jun-2024 04:41 | 3.7K | ||
checksrc-summary.dcf | 12-Jun-2024 04:41 | 445 | ||
install-out.txt | 12-Jun-2024 04:41 | 962 | ||
install-summary.dcf | 12-Jun-2024 04:41 | 267 | ||