Index of /checkResults/3.20/bioc-LATEST/rawDiag/raw-results/kjohnson3
Name
Last modified
Size
Description
Parent Directory
-
buildsrc-out.txt
27-Jul-2024 00:42
933
buildsrc-summary.dcf
27-Jul-2024 00:42
341
install-out.txt
27-Jul-2024 00:42
691
install-summary.dcf
27-Jul-2024 00:42
270