Name | Last modified | Size | Description | |
---|---|---|---|---|
Parent Directory | - | |||
checksrc-out.txt | 12-Jun-2024 04:41 | 4.3K | ||
buildbin-out.txt | 12-Jun-2024 04:41 | 1.1K | ||
buildsrc-out.txt | 12-Jun-2024 04:41 | 1.1K | ||
install-out.txt | 12-Jun-2024 04:41 | 968 | ||
buildbin-summary.dcf | 12-Jun-2024 04:41 | 509 | ||
buildsrc-summary.dcf | 12-Jun-2024 04:41 | 448 | ||
checksrc-summary.dcf | 12-Jun-2024 04:41 | 443 | ||
install-summary.dcf | 12-Jun-2024 04:41 | 266 | ||