Name | Last modified | Size | Description | |
---|---|---|---|---|
Parent Directory | - | |||
install-summary.dcf | 06-Jul-2024 00:44 | 246 | ||
install-out.txt | 06-Jul-2024 00:44 | 158K | ||
checksrc-summary.dcf | 06-Jul-2024 00:44 | 401 | ||
checksrc-out.txt | 06-Jul-2024 00:44 | 11K | ||
buildsrc-summary.dcf | 06-Jul-2024 00:44 | 404 | ||
buildsrc-out.txt | 06-Jul-2024 00:44 | 823 | ||