Name | Last modified | Size | Description | |
---|---|---|---|---|
Parent Directory | - | |||
install-summary.dcf | 06-Jul-2024 00:43 | 267 | ||
install-out.txt | 06-Jul-2024 00:43 | 30K | ||
checksrc-summary.dcf | 06-Jul-2024 00:43 | 439 | ||
checksrc-out.txt | 06-Jul-2024 00:43 | 11K | ||
buildsrc-summary.dcf | 06-Jul-2024 00:43 | 424 | ||
buildsrc-out.txt | 06-Jul-2024 00:43 | 845 | ||
buildbin-summary.dcf | 06-Jul-2024 00:43 | 524 | ||
buildbin-out.txt | 06-Jul-2024 00:43 | 32K | ||