Name | Last modified | Size | Description | |
---|---|---|---|---|
Parent Directory | - | |||
buildbin-out.txt | 06-Jul-2024 00:43 | 9.7K | ||
buildbin-summary.dcf | 06-Jul-2024 00:43 | 553 | ||
buildsrc-out.txt | 06-Jul-2024 00:43 | 925 | ||
buildsrc-summary.dcf | 06-Jul-2024 00:43 | 439 | ||
checksrc-out.txt | 06-Jul-2024 00:43 | 6.1K | ||
checksrc-summary.dcf | 06-Jul-2024 00:43 | 459 | ||
install-out.txt | 06-Jul-2024 00:43 | 7.7K | ||
install-summary.dcf | 06-Jul-2024 00:43 | 276 | ||