Index of /checkResults/3.20/bioc-LATEST/musicatk/raw-results/palomino6
Name
Last modified
Size
Description
Parent Directory
-
buildsrc-out.txt
06-Jul-2024 00:40
953
buildsrc-summary.dcf
06-Jul-2024 00:40
377
install-out.txt
06-Jul-2024 00:40
647
install-summary.dcf
06-Jul-2024 00:40
278