Index of /checkResults/3.20/bioc-LATEST/musicatk/raw-results/kjohnson3
Name
Last modified
Size
Description
Parent Directory
-
buildsrc-out.txt
06-Jul-2024 00:43
947
install-out.txt
06-Jul-2024 00:43
704
buildsrc-summary.dcf
06-Jul-2024 00:43
344
install-summary.dcf
06-Jul-2024 00:43
273