Name | Last modified | Size | Description | |
---|---|---|---|---|
Parent Directory | - | |||
buildsrc-out.txt | 27-Jul-2024 00:38 | 893 | ||
buildsrc-summary.dcf | 27-Jul-2024 00:38 | 424 | ||
checksrc-out.txt | 27-Jul-2024 00:38 | 4.0K | ||
checksrc-summary.dcf | 27-Jul-2024 00:38 | 414 | ||
install-out.txt | 27-Jul-2024 00:38 | 960 | ||
install-summary.dcf | 27-Jul-2024 00:38 | 259 | ||