Name | Last modified | Size | Description | |
---|---|---|---|---|
Parent Directory | - | |||
buildbin-out.txt | 06-Jul-2024 00:40 | 2.1K | ||
buildbin-summary.dcf | 06-Jul-2024 00:40 | 521 | ||
buildsrc-out.txt | 06-Jul-2024 00:40 | 877 | ||
buildsrc-summary.dcf | 06-Jul-2024 00:40 | 458 | ||
checksrc-out.txt | 06-Jul-2024 00:40 | 5.9K | ||
checksrc-summary.dcf | 06-Jul-2024 00:40 | 459 | ||
install-out.txt | 06-Jul-2024 00:40 | 1.9K | ||
install-summary.dcf | 06-Jul-2024 00:40 | 274 | ||