Name | Last modified | Size | Description | |
---|---|---|---|---|
Parent Directory | - | |||
checksrc-summary.dcf | 06-Jul-2024 00:44 | 407 | ||
checksrc-out.txt | 06-Jul-2024 00:44 | 1.5K | ||
buildsrc-out.txt | 06-Jul-2024 00:44 | 824 | ||
buildsrc-summary.dcf | 06-Jul-2024 00:44 | 405 | ||
install-summary.dcf | 06-Jul-2024 00:44 | 247 | ||
install-out.txt | 06-Jul-2024 00:44 | 1.7K | ||