Name | Last modified | Size | Description | |
---|---|---|---|---|
Parent Directory | - | |||
install-out.txt | 17-Jul-2024 00:40 | 1.0K | ||
install-summary.dcf | 17-Jul-2024 00:40 | 284 | ||
buildsrc-out.txt | 17-Jul-2024 00:40 | 870 | ||
buildsrc-summary.dcf | 17-Jul-2024 00:40 | 479 | ||
checksrc-out.txt | 17-Jul-2024 00:40 | 3.6K | ||
checksrc-summary.dcf | 17-Jul-2024 00:40 | 478 | ||
buildbin-out.txt | 17-Jul-2024 00:40 | 1.2K | ||
buildbin-summary.dcf | 17-Jul-2024 00:40 | 550 | ||