Name | Last modified | Size | Description | |
---|---|---|---|---|
Parent Directory | - | |||
install-summary.dcf | 06-Jul-2024 00:44 | 247 | ||
install-out.txt | 06-Jul-2024 00:44 | 942 | ||
checksrc-summary.dcf | 05-Jul-2024 00:45 | 405 | ||
checksrc-out.txt | 05-Jul-2024 00:45 | 3.7K | ||
buildsrc-summary.dcf | 06-Jul-2024 00:44 | 321 | ||
buildsrc-out.txt | 06-Jul-2024 00:44 | 1.0K | ||