Name | Last modified | Size | Description | |
---|---|---|---|---|
Parent Directory | - | |||
buildsrc-summary.dcf | 06-Jul-2024 00:39 | 345 | ||
buildsrc-out.txt | 06-Jul-2024 00:39 | 1.5K | ||
install-summary.dcf | 06-Jul-2024 00:39 | 264 | ||
install-out.txt | 06-Jul-2024 00:39 | 969 | ||
checksrc-summary.dcf | 21-Jun-2024 01:14 | 425 | ||
checksrc-out.txt | 21-Jun-2024 01:14 | 13K | ||