Name | Last modified | Size | Description | |
---|---|---|---|---|
Parent Directory | - | |||
install-summary.dcf | 27-Jul-2024 00:40 | 270 | ||
install-out.txt | 27-Jul-2024 00:40 | 2.5K | ||
checksrc-summary.dcf | 27-Jul-2024 00:40 | 451 | ||
checksrc-out.txt | 27-Jul-2024 00:40 | 89K | ||
buildsrc-summary.dcf | 27-Jul-2024 00:40 | 457 | ||
buildsrc-out.txt | 27-Jul-2024 00:40 | 913 | ||
buildbin-summary.dcf | 27-Jul-2024 00:40 | 521 | ||
buildbin-out.txt | 27-Jul-2024 00:40 | 2.7K | ||