Name | Last modified | Size | Description | |
---|---|---|---|---|
Parent Directory | - | |||
install-summary.dcf | 27-Jul-2024 00:38 | 261 | ||
checksrc-summary.dcf | 27-Jul-2024 00:38 | 424 | ||
buildsrc-summary.dcf | 27-Jul-2024 00:38 | 427 | ||
buildsrc-out.txt | 27-Jul-2024 00:38 | 904 | ||
install-out.txt | 27-Jul-2024 00:38 | 2.9K | ||
checksrc-out.txt | 27-Jul-2024 00:38 | 93K | ||