Name | Last modified | Size | Description | |
---|---|---|---|---|
Parent Directory | - | |||
checksrc-out.txt | 28-Jul-2024 00:41 | 92K | ||
buildbin-out.txt | 28-Jul-2024 00:41 | 5.3K | ||
install-out.txt | 28-Jul-2024 00:41 | 2.8K | ||
buildsrc-out.txt | 28-Jul-2024 00:41 | 890 | ||
buildbin-summary.dcf | 28-Jul-2024 00:41 | 536 | ||
checksrc-summary.dcf | 28-Jul-2024 00:41 | 448 | ||
buildsrc-summary.dcf | 28-Jul-2024 00:41 | 430 | ||
install-summary.dcf | 28-Jul-2024 00:41 | 271 | ||