Name | Last modified | Size | Description | |
---|---|---|---|---|
Parent Directory | - | |||
install-summary.dcf | 28-Jul-2024 00:42 | 270 | ||
install-out.txt | 28-Jul-2024 00:42 | 2.8K | ||
checksrc-summary.dcf | 28-Jul-2024 00:42 | 447 | ||
checksrc-out.txt | 28-Jul-2024 00:42 | 92K | ||
buildsrc-summary.dcf | 28-Jul-2024 00:42 | 430 | ||
buildsrc-out.txt | 28-Jul-2024 00:42 | 890 | ||
buildbin-summary.dcf | 28-Jul-2024 00:42 | 535 | ||
buildbin-out.txt | 28-Jul-2024 00:42 | 5.1K | ||