Name | Last modified | Size | Description | |
---|---|---|---|---|
Parent Directory | - | |||
checksrc-out.txt | 21-May-2024 00:36 | 4.5K | ||
buildsrc-out.txt | 12-Jun-2024 04:40 | 1.1K | ||
buildbin-out.txt | 21-May-2024 00:36 | 1.1K | ||
install-out.txt | 12-Jun-2024 04:40 | 913 | ||
buildbin-summary.dcf | 21-May-2024 00:36 | 527 | ||
checksrc-summary.dcf | 21-May-2024 00:36 | 455 | ||
buildsrc-summary.dcf | 12-Jun-2024 04:40 | 374 | ||
install-summary.dcf | 12-Jun-2024 04:40 | 275 | ||