Name | Last modified | Size | Description | |
---|---|---|---|---|
Parent Directory | - | |||
buildsrc-out.txt | 28-Jul-2024 00:38 | 838 | ||
buildsrc-summary.dcf | 28-Jul-2024 00:38 | 429 | ||
checksrc-out.txt | 28-Jul-2024 00:38 | 4.6K | ||
checksrc-summary.dcf | 28-Jul-2024 00:38 | 422 | ||
install-out.txt | 28-Jul-2024 00:38 | 958 | ||
install-summary.dcf | 28-Jul-2024 00:38 | 263 | ||