Name | Last modified | Size | Description | |
---|---|---|---|---|
Parent Directory | - | |||
buildsrc-summary.dcf | 12-Jun-2024 04:42 | 347 | ||
buildsrc-out.txt | 12-Jun-2024 04:42 | 1.1K | ||
install-summary.dcf | 12-Jun-2024 04:42 | 276 | ||
install-out.txt | 12-Jun-2024 04:42 | 1.0K | ||
buildbin-summary.dcf | 21-May-2024 00:37 | 542 | ||
buildbin-out.txt | 21-May-2024 00:37 | 1.2K | ||
checksrc-summary.dcf | 21-May-2024 00:37 | 452 | ||
checksrc-out.txt | 21-May-2024 00:37 | 4.7K | ||