Name | Last modified | Size | Description | |
---|---|---|---|---|
Parent Directory | - | |||
buildbin-out.txt | 27-Jul-2024 00:42 | 1.2K | ||
buildbin-summary.dcf | 27-Jul-2024 00:42 | 542 | ||
buildsrc-out.txt | 27-Jul-2024 00:42 | 824 | ||
buildsrc-summary.dcf | 27-Jul-2024 00:42 | 433 | ||
checksrc-out.txt | 27-Jul-2024 00:42 | 4.5K | ||
checksrc-summary.dcf | 27-Jul-2024 00:42 | 451 | ||
install-out.txt | 27-Jul-2024 00:42 | 1.0K | ||
install-summary.dcf | 27-Jul-2024 00:42 | 273 | ||