Index of /checkResults/3.20/bioc-LATEST/lisaClust/raw-results/kjohnson1
Name
Last modified
Size
Description
Parent Directory
-
install-summary.dcf
12-Jun-2024 04:43
276
buildsrc-summary.dcf
12-Jun-2024 04:43
347
install-out.txt
12-Jun-2024 04:43
1.0K
buildsrc-out.txt
12-Jun-2024 04:43
1.1K