Name | Last modified | Size | Description | |
---|---|---|---|---|
Parent Directory | - | |||
install-out.txt | 27-Jul-2024 00:39 | 1.1K | ||
install-summary.dcf | 27-Jul-2024 00:39 | 265 | ||
buildsrc-out.txt | 27-Jul-2024 00:39 | 902 | ||
buildsrc-summary.dcf | 27-Jul-2024 00:39 | 447 | ||
checksrc-out.txt | 27-Jul-2024 00:39 | 3.6K | ||
checksrc-summary.dcf | 27-Jul-2024 00:39 | 441 | ||
buildbin-out.txt | 27-Jul-2024 00:39 | 1.2K | ||
buildbin-summary.dcf | 27-Jul-2024 00:39 | 506 | ||