Name | Last modified | Size | Description | |
---|---|---|---|---|
Parent Directory | - | |||
buildbin-out.txt | 28-Jul-2024 00:41 | 1.3K | ||
buildbin-summary.dcf | 28-Jul-2024 00:41 | 521 | ||
buildsrc-out.txt | 28-Jul-2024 00:41 | 878 | ||
buildsrc-summary.dcf | 28-Jul-2024 00:41 | 423 | ||
checksrc-out.txt | 28-Jul-2024 00:41 | 3.7K | ||
checksrc-summary.dcf | 28-Jul-2024 00:41 | 438 | ||
install-out.txt | 28-Jul-2024 00:41 | 1.1K | ||
install-summary.dcf | 28-Jul-2024 00:41 | 266 | ||