Name | Last modified | Size | Description | |
---|---|---|---|---|
Parent Directory | - | |||
install-summary.dcf | 28-Jul-2024 00:39 | 274 | ||
install-out.txt | 28-Jul-2024 00:39 | 1.0K | ||
checksrc-summary.dcf | 28-Jul-2024 00:39 | 459 | ||
checksrc-out.txt | 28-Jul-2024 00:39 | 3.8K | ||
buildsrc-summary.dcf | 28-Jul-2024 00:39 | 464 | ||
buildsrc-out.txt | 28-Jul-2024 00:39 | 1.1K | ||
buildbin-summary.dcf | 28-Jul-2024 00:39 | 533 | ||
buildbin-out.txt | 28-Jul-2024 00:39 | 1.1K | ||