Name | Last modified | Size | Description | |
---|---|---|---|---|
Parent Directory | - | |||
buildbin-summary.dcf | 12-Jun-2024 04:42 | 523 | ||
buildbin-out.txt | 12-Jun-2024 04:42 | 1.2K | ||
checksrc-summary.dcf | 12-Jun-2024 04:42 | 440 | ||
checksrc-out.txt | 12-Jun-2024 04:42 | 3.3K | ||
buildsrc-summary.dcf | 12-Jun-2024 04:42 | 424 | ||
buildsrc-out.txt | 12-Jun-2024 04:42 | 812 | ||
install-out.txt | 12-Jun-2024 04:42 | 1.0K | ||
install-summary.dcf | 12-Jun-2024 04:42 | 267 | ||