Name | Last modified | Size | Description | |
---|---|---|---|---|
Parent Directory | - | |||
buildbin-out.txt | 12-Jun-2024 04:40 | 2.9K | ||
buildbin-summary.dcf | 12-Jun-2024 04:40 | 549 | ||
buildsrc-out.txt | 12-Jun-2024 04:40 | 900 | ||
buildsrc-summary.dcf | 12-Jun-2024 04:40 | 475 | ||
checksrc-out.txt | 12-Jun-2024 04:40 | 4.4K | ||
checksrc-summary.dcf | 12-Jun-2024 04:40 | 469 | ||
install-out.txt | 12-Jun-2024 04:40 | 2.8K | ||
install-summary.dcf | 12-Jun-2024 04:40 | 279 | ||