Name | Last modified | Size | Description | |
---|---|---|---|---|
Parent Directory | - | |||
checksrc-summary.dcf | 06-Jul-2024 00:38 | 442 | ||
checksrc-out.txt | 06-Jul-2024 00:38 | 4.7K | ||
buildsrc-summary.dcf | 06-Jul-2024 00:38 | 439 | ||
buildsrc-out.txt | 06-Jul-2024 00:38 | 883 | ||
install-out.txt | 06-Jul-2024 00:38 | 2.7K | ||
install-summary.dcf | 06-Jul-2024 00:38 | 270 | ||