Name | Last modified | Size | Description | |
---|---|---|---|---|
Parent Directory | - | |||
checksrc-out.txt | 06-Jul-2024 00:44 | 9.9K | ||
install-out.txt | 06-Jul-2024 00:44 | 971 | ||
buildsrc-out.txt | 06-Jul-2024 00:44 | 786 | ||
buildsrc-summary.dcf | 06-Jul-2024 00:44 | 399 | ||
checksrc-summary.dcf | 06-Jul-2024 00:44 | 396 | ||
install-summary.dcf | 06-Jul-2024 00:44 | 243 | ||