Name | Last modified | Size | Description | |
---|---|---|---|---|
Parent Directory | - | |||
checksrc-out.txt | 06-Jul-2024 00:41 | 5.2K | ||
buildbin-out.txt | 06-Jul-2024 00:41 | 4.5K | ||
install-out.txt | 06-Jul-2024 00:41 | 2.2K | ||
buildsrc-out.txt | 06-Jul-2024 00:41 | 881 | ||
buildbin-summary.dcf | 06-Jul-2024 00:41 | 581 | ||
checksrc-summary.dcf | 06-Jul-2024 00:41 | 482 | ||
buildsrc-summary.dcf | 06-Jul-2024 00:41 | 452 | ||
install-summary.dcf | 06-Jul-2024 00:41 | 286 | ||