Name | Last modified | Size | Description | |
---|---|---|---|---|
Parent Directory | - | |||
install-out.txt | 17-Jul-2024 00:39 | 1.0K | ||
install-summary.dcf | 17-Jul-2024 00:39 | 285 | ||
buildsrc-summary.dcf | 17-Jul-2024 00:39 | 480 | ||
buildsrc-out.txt | 17-Jul-2024 00:39 | 874 | ||
checksrc-out.txt | 17-Jul-2024 00:39 | 3.3K | ||
checksrc-summary.dcf | 17-Jul-2024 00:39 | 481 | ||
buildbin-out.txt | 17-Jul-2024 00:39 | 1.1K | ||
buildbin-summary.dcf | 17-Jul-2024 00:39 | 552 | ||