Name | Last modified | Size | Description | |
---|---|---|---|---|
Parent Directory | - | |||
install-out.txt | 12-Jun-2024 04:40 | 971 | ||
install-summary.dcf | 12-Jun-2024 04:40 | 279 | ||
buildsrc-out.txt | 12-Jun-2024 04:40 | 868 | ||
buildsrc-summary.dcf | 12-Jun-2024 04:40 | 474 | ||
checksrc-out.txt | 12-Jun-2024 04:40 | 3.3K | ||
checksrc-summary.dcf | 12-Jun-2024 04:40 | 469 | ||
buildbin-out.txt | 12-Jun-2024 04:40 | 1.1K | ||
buildbin-summary.dcf | 12-Jun-2024 04:40 | 548 | ||