Name | Last modified | Size | Description | |
---|---|---|---|---|
Parent Directory | - | |||
buildbin-out.txt | 28-Jul-2024 00:39 | 1.1K | ||
buildbin-summary.dcf | 28-Jul-2024 00:39 | 552 | ||
buildsrc-out.txt | 28-Jul-2024 00:39 | 869 | ||
buildsrc-summary.dcf | 28-Jul-2024 00:39 | 477 | ||
checksrc-out.txt | 28-Jul-2024 00:39 | 3.3K | ||
checksrc-summary.dcf | 28-Jul-2024 00:39 | 471 | ||
install-out.txt | 28-Jul-2024 00:39 | 1.0K | ||
install-summary.dcf | 28-Jul-2024 00:39 | 281 | ||