Name | Last modified | Size | Description | |
---|---|---|---|---|
Parent Directory | - | |||
buildsrc-out.txt | 06-Jul-2024 00:45 | 1.0K | ||
buildsrc-summary.dcf | 06-Jul-2024 00:45 | 338 | ||
checksrc-out.txt | 05-Jul-2024 00:45 | 4.0K | ||
checksrc-summary.dcf | 05-Jul-2024 00:45 | 441 | ||
install-out.txt | 06-Jul-2024 00:45 | 700 | ||
install-summary.dcf | 06-Jul-2024 00:45 | 267 | ||