Name | Last modified | Size | Description | |
---|---|---|---|---|
Parent Directory | - | |||
buildbin-summary.dcf | 06-Jul-2024 00:44 | 584 | ||
buildbin-out.txt | 06-Jul-2024 00:44 | 5.6K | ||
checksrc-out.txt | 06-Jul-2024 00:44 | 4.1K | ||
checksrc-summary.dcf | 06-Jul-2024 00:44 | 480 | ||
buildsrc-summary.dcf | 06-Jul-2024 00:44 | 455 | ||
buildsrc-out.txt | 06-Jul-2024 00:44 | 882 | ||
install-summary.dcf | 06-Jul-2024 00:44 | 287 | ||
install-out.txt | 06-Jul-2024 00:44 | 3.5K | ||