Name | Last modified | Size | Description | |
---|---|---|---|---|
Parent Directory | - | |||
buildbin-out.txt | 28-Jul-2024 00:42 | 1.2K | ||
buildbin-summary.dcf | 28-Jul-2024 00:42 | 527 | ||
checksrc-summary.dcf | 28-Jul-2024 00:42 | 443 | ||
checksrc-out.txt | 28-Jul-2024 00:42 | 3.8K | ||
buildsrc-summary.dcf | 28-Jul-2024 00:42 | 427 | ||
buildsrc-out.txt | 28-Jul-2024 00:42 | 879 | ||
install-summary.dcf | 28-Jul-2024 00:42 | 268 | ||
install-out.txt | 28-Jul-2024 00:42 | 1.0K | ||