Name | Last modified | Size | Description | |
---|---|---|---|---|
Parent Directory | - | |||
checksrc-summary.dcf | 06-Jul-2024 00:39 | 468 | ||
checksrc-out.txt | 06-Jul-2024 00:39 | 14K | ||
buildsrc-summary.dcf | 06-Jul-2024 00:39 | 464 | ||
buildsrc-out.txt | 06-Jul-2024 00:39 | 1.0K | ||
install-summary.dcf | 06-Jul-2024 00:39 | 286 | ||
install-out.txt | 06-Jul-2024 00:39 | 1.5K | ||