Name | Last modified | Size | Description | |
---|---|---|---|---|
Parent Directory | - | |||
install-summary.dcf | 06-Jul-2024 00:41 | 296 | ||
install-out.txt | 06-Jul-2024 00:41 | 1.8K | ||
buildsrc-out.txt | 06-Jul-2024 00:41 | 964 | ||
buildsrc-summary.dcf | 06-Jul-2024 00:41 | 468 | ||
checksrc-out.txt | 06-Jul-2024 00:41 | 14K | ||
checksrc-summary.dcf | 06-Jul-2024 00:41 | 498 | ||
buildbin-out.txt | 06-Jul-2024 00:41 | 4.0K | ||
buildbin-summary.dcf | 06-Jul-2024 00:41 | 611 | ||