Name | Last modified | Size | Description | |
---|---|---|---|---|
Parent Directory | - | |||
buildbin-out.txt | 06-Jul-2024 00:41 | 11K | ||
buildbin-summary.dcf | 06-Jul-2024 00:41 | 542 | ||
buildsrc-out.txt | 06-Jul-2024 00:41 | 767 | ||
buildsrc-summary.dcf | 06-Jul-2024 00:41 | 432 | ||
checksrc-out.txt | 06-Jul-2024 00:41 | 5.7K | ||
checksrc-summary.dcf | 06-Jul-2024 00:41 | 458 | ||
install-out.txt | 06-Jul-2024 00:41 | 8.3K | ||
install-summary.dcf | 06-Jul-2024 00:41 | 273 | ||