Name | Last modified | Size | Description | |
---|---|---|---|---|
Parent Directory | - | |||
buildsrc-out.txt | 09-Jul-2024 00:44 | 955 | ||
buildsrc-summary.dcf | 09-Jul-2024 00:44 | 323 | ||
install-summary.dcf | 06-Jul-2024 00:44 | 252 | ||
install-out.txt | 06-Jul-2024 00:44 | 764 | ||
checksrc-out.txt | 05-Jul-2024 00:44 | 4.2K | ||
checksrc-summary.dcf | 05-Jul-2024 00:44 | 411 | ||