Name | Last modified | Size | Description | |
---|---|---|---|---|
Parent Directory | - | |||
checksrc-out.txt | 06-Jul-2024 00:38 | 3.4K | ||
install-out.txt | 06-Jul-2024 00:38 | 971 | ||
buildsrc-out.txt | 06-Jul-2024 00:38 | 880 | ||
buildsrc-summary.dcf | 06-Jul-2024 00:38 | 413 | ||
checksrc-summary.dcf | 06-Jul-2024 00:38 | 400 | ||
install-summary.dcf | 06-Jul-2024 00:38 | 252 | ||