Name | Last modified | Size | Description | |
---|---|---|---|---|
Parent Directory | - | |||
buildsrc-out.txt | 06-Jul-2024 00:38 | 885 | ||
buildsrc-summary.dcf | 06-Jul-2024 00:38 | 419 | ||
checksrc-out.txt | 06-Jul-2024 00:38 | 4.5K | ||
checksrc-summary.dcf | 06-Jul-2024 00:38 | 407 | ||
install-out.txt | 06-Jul-2024 00:38 | 954 | ||
install-summary.dcf | 06-Jul-2024 00:38 | 255 | ||