Index of /checkResults/3.20/bioc-LATEST/FELLA/raw-results/kunpeng2
Name
Last modified
Size
Description
Parent Directory
-
buildsrc-out.txt
06-Jul-2024 00:44
625
buildsrc-summary.dcf
06-Jul-2024 00:44
324
install-out.txt
06-Jul-2024 00:44
936
install-summary.dcf
06-Jul-2024 00:44
243